BEGIN:VCALENDAR
VERSION:2.0
PRODID:-//FundArt - ECPv5.12.2//NONSGML v1.0//EN
CALSCALE:GREGORIAN
METHOD:PUBLISH
X-WR-CALNAME:FundArt
X-ORIGINAL-URL:https://fundart.com.br
X-WR-CALDESC:Eventos para FundArt
BEGIN:VTIMEZONE
TZID:America/Sao_Paulo
BEGIN:STANDARD
TZOFFSETFROM:-0200
TZOFFSETTO:-0300
TZNAME:-03
DTSTART:20190217T020000
END:STANDARD
END:VTIMEZONE
BEGIN:VEVENT
DTSTART;TZID=America/Sao_Paulo:20191020T170000
DTEND;TZID=America/Sao_Paulo:20191020T170000
DTSTAMP:20260421T191616
CREATED:20191003T141741Z
LAST-MODIFIED:20191003T141741Z
UID:29180-1571590800-1571590800@fundart.com.br
SUMMARY:Descerramento de placa em homenagem a Pedro Paulo Teixeira Pinto Banda Lira Padre Anchieta convida Jane Duboc e Ogair Júnior
DESCRIPTION:
URL:https://fundart.com.br/evento/descerramento-de-placa-em-homenagem-pedro-paulo-teixeira-pinto-banda-lira-padre-anchieta-convida-jane-duboc-e-ogair-junior/
LOCATION:Teatro Municipal Pedro Paulo Teixeira Pinto
CATEGORIES:FePET
END:VEVENT
END:VCALENDAR