BEGIN:VCALENDAR
VERSION:2.0
PRODID:-//FundArt - ECPv5.12.2//NONSGML v1.0//EN
CALSCALE:GREGORIAN
METHOD:PUBLISH
X-WR-CALNAME:FundArt
X-ORIGINAL-URL:https://fundart.com.br
X-WR-CALDESC:Eventos para FundArt
BEGIN:VTIMEZONE
TZID:America/Sao_Paulo
BEGIN:STANDARD
TZOFFSETFROM:-0200
TZOFFSETTO:-0300
TZNAME:-03
DTSTART:20190217T020000
END:STANDARD
END:VTIMEZONE
BEGIN:VEVENT
DTSTART;TZID=America/Sao_Paulo:20191025T090000
DTEND;TZID=America/Sao_Paulo:20191025T090000
DTSTAMP:20260421T185809
CREATED:20190326T183557Z
LAST-MODIFIED:20190326T183557Z
UID:27451-1571994000-1571994000@fundart.com.br
SUMMARY:Corrida de Canoa Caiçara em Trindade
DESCRIPTION:
URL:https://fundart.com.br/evento/corrida-de-canoa-caicara-em-trindade/
ATTACH;FMTTYPE=image/jpeg:https://fundart.com.br/wp-content/uploads/2019/03/WhatsApp-Image-2019-03-19-at-22.16.11.jpeg
END:VEVENT
END:VCALENDAR