BEGIN:VCALENDAR
VERSION:2.0
PRODID:-//FundArt - ECPv5.12.2//NONSGML v1.0//EN
CALSCALE:GREGORIAN
METHOD:PUBLISH
X-WR-CALNAME:FundArt
X-ORIGINAL-URL:https://fundart.com.br
X-WR-CALDESC:Eventos para FundArt
BEGIN:VTIMEZONE
TZID:America/Sao_Paulo
BEGIN:STANDARD
TZOFFSETFROM:-0200
TZOFFSETTO:-0300
TZNAME:-03
DTSTART:20180218T020000
END:STANDARD
BEGIN:DAYLIGHT
TZOFFSETFROM:-0300
TZOFFSETTO:-0200
TZNAME:-02
DTSTART:20181104T030000
END:DAYLIGHT
END:VTIMEZONE
BEGIN:VEVENT
DTSTART;TZID=America/Sao_Paulo:20181111T190000
DTEND;TZID=America/Sao_Paulo:20181111T190000
DTSTAMP:20260424T063359
CREATED:20181122T181911Z
LAST-MODIFIED:20181122T181911Z
UID:26272-1541962800-1541962800@fundart.com.br
SUMMARY:Coro da Lira no Festival de Corais de Caraguatatuba
DESCRIPTION:Coro da Lira no Festival de Corais de Caraguatatuba\nData: 11 de novembro – domingo\nLocal: Teatro Mário Covas\nHora: 19:00hrs
URL:https://fundart.com.br/evento/coro-da-lira-no-festival-de-corais-de-caraguatatuba/
LOCATION:Teatro Mário Covas\, Caraguatatuba
CATEGORIES:Coro da Lira
ATTACH;FMTTYPE=image/jpeg:https://fundart.com.br/wp-content/uploads/2017/11/23439683_1155631164570798_172894537_n.jpg
END:VEVENT
END:VCALENDAR