BEGIN:VCALENDAR
VERSION:2.0
PRODID:-//FundArt - ECPv5.12.2//NONSGML v1.0//EN
CALSCALE:GREGORIAN
METHOD:PUBLISH
X-WR-CALNAME:FundArt
X-ORIGINAL-URL:https://fundart.com.br
X-WR-CALDESC:Eventos para FundArt
BEGIN:VTIMEZONE
TZID:America/Sao_Paulo
BEGIN:STANDARD
TZOFFSETFROM:-0300
TZOFFSETTO:-0300
TZNAME:-03
DTSTART:20210101T000000
END:STANDARD
END:VTIMEZONE
BEGIN:VEVENT
DTSTART;TZID=America/Sao_Paulo:20211121T150000
DTEND;TZID=America/Sao_Paulo:20211121T170000
DTSTAMP:20260420T050333
CREATED:20211119T191319Z
LAST-MODIFIED:20211119T195129Z
UID:34021-1637506800-1637514000@fundart.com.br
SUMMARY:Negros de Todas as Cores (Quilombo do Itamambuca) - Programação Consciência Negra
DESCRIPTION:Domingo – 21/11 | Quilombo do Itamambuca \n15h – Oficina de Bonecas – Betânia\nAcademia Universal de Capoeira – Mestre Leco\nSertão do Itamambuca próximo ao Campo de Futebol
URL:https://fundart.com.br/evento/consciencia-negra-negros-de-todas-as-cores/
LOCATION:Quilombo do Itamambuca
CATEGORIES:Consciência Negra "Negro de Todas as Cores"
ATTACH;FMTTYPE=image/jpeg:https://fundart.com.br/wp-content/uploads/2021/11/Programação-Consciência-Negra.jpg
END:VEVENT
END:VCALENDAR