BEGIN:VCALENDAR
VERSION:2.0
PRODID:-//FundArt - ECPv5.12.2//NONSGML v1.0//EN
CALSCALE:GREGORIAN
METHOD:PUBLISH
X-WR-CALNAME:FundArt
X-ORIGINAL-URL:https://fundart.com.br
X-WR-CALDESC:Eventos para FundArt
BEGIN:VTIMEZONE
TZID:America/Sao_Paulo
BEGIN:STANDARD
TZOFFSETFROM:-0300
TZOFFSETTO:-0300
TZNAME:-03
DTSTART:20210101T000000
END:STANDARD
END:VTIMEZONE
BEGIN:VEVENT
DTSTART;TZID=America/Sao_Paulo:20211120T100000
DTEND;TZID=America/Sao_Paulo:20211120T213000
DTSTAMP:20260420T064105
CREATED:20211119T190714Z
LAST-MODIFIED:20211119T195025Z
UID:34019-1637402400-1637443800@fundart.com.br
SUMMARY:Negro de Todas as Cores (Praça de Eventos) - Programação Consciência Negra
DESCRIPTION:Sábado – 20/11 | Praça de eventos \n10h – Roda de Cajón – Pity Cajonero\n12h – Feijoada com Samba de Roda – Samba Grupo Peregrino\n14h – Oficina de Maracatu com Apresentação – Grito de Maria\n16h – Palestra musicada com Céllia Nascimento\n18h – Congada de Bastão de São Benedito – Bairro do Puruba\n19h – Divino Sununga\n20h – Só Por Hoje\n21h30 – Lenin Terra
URL:https://fundart.com.br/evento/consciencia-negra-negro-de-todas-as-cores-2/
LOCATION:Praça de Eventos\, Avenida Iperoig
CATEGORIES:Consciência Negra "Negro de Todas as Cores"
ATTACH;FMTTYPE=image/jpeg:https://fundart.com.br/wp-content/uploads/2021/11/Programação-Consciência-Negra.jpg
END:VEVENT
END:VCALENDAR