BEGIN:VCALENDAR
VERSION:2.0
PRODID:-//FundArt - ECPv5.12.2//NONSGML v1.0//EN
CALSCALE:GREGORIAN
METHOD:PUBLISH
X-WR-CALNAME:FundArt
X-ORIGINAL-URL:https://fundart.com.br
X-WR-CALDESC:Eventos para FundArt
BEGIN:VTIMEZONE
TZID:America/Sao_Paulo
BEGIN:STANDARD
TZOFFSETFROM:-0200
TZOFFSETTO:-0300
TZNAME:-03
DTSTART:20180218T020000
END:STANDARD
BEGIN:DAYLIGHT
TZOFFSETFROM:-0300
TZOFFSETTO:-0200
TZNAME:-02
DTSTART:20181104T030000
END:DAYLIGHT
END:VTIMEZONE
BEGIN:VEVENT
DTSTART;TZID=America/Sao_Paulo:20181122T200000
DTEND;TZID=America/Sao_Paulo:20181122T200000
DTSTAMP:20260423T171523
CREATED:20181113T113911Z
LAST-MODIFIED:20181113T114315Z
UID:26199-1542916800-1542916800@fundart.com.br
SUMMARY:Consciência Negra " Negro de Todas as Cores"
DESCRIPTION:16/11 (sexta-feira) l Praça Nóbrega\, Centro \n17h – Grupo Raízes da Caçandoca \n18h – “Corpo\, ciência e a educação das relações étnico raciais” – com Profº Dr. Christian Moura \n19h – Maracatu Itaomi \n20h – Cia. São Guido \n21h – Samba das Pretas \n22h – Samba do Seu Zé \n17/11 (sábado) l Praça Nóbrega\, Centro \n17h – Oficina toque de caixa de Maracatu com Flávio Itajubá \n18h – Grupo Ô de Casa (Quilombo Fazenda da Caixa) \n19h – Afoxé Ilú Omi Obatalá \n20h – Concertada \n21h –Divino Sununga com participação especial de El Negro Pedro (Pré-lançamento do EP Reggae Proceder) \n22h – João Terra “40 anos” \nTambém na Praça Nóbrega nos dias 16 e 17 de novembro \nA partir das 18h \nExposição de discos de vinil da música negra mundial l Bolacha Caiçara: Intervenções com Hickey Araujo DJ Hk \nExposição e venda de Artesanato com o Grupo Setorial de Artesanato \nExposição e venda de Artes Plásticas com o Grupo Setorial de Artes Plásticas e Visuais \n19/11 (segunda-feira) l Biblioteca Municipal “Ateneu Ubatubense” \n19h – Bate-papo sobre o protagonismo de comunidades e atores afrodescendentes no setor do turismo com a participação de lideranças negras e empreendedores. Parceria Ecotuba. \n22/11 (quinta-feira) l Biblioteca Municipal “Ateneu Ubatubense” \n15h Contação de história: A Saga do Negro Bainawá com Venicio Toledo.
URL:https://fundart.com.br/evento/consciencia-negra-2/
ATTACH;FMTTYPE=image/jpeg:https://fundart.com.br/wp-content/uploads/2018/11/45560764_927650254025810_4554370216733179904_n.jpg
END:VEVENT
END:VCALENDAR