BEGIN:VCALENDAR
VERSION:2.0
PRODID:-//FundArt - ECPv5.12.2//NONSGML v1.0//EN
CALSCALE:GREGORIAN
METHOD:PUBLISH
X-WR-CALNAME:FundArt
X-ORIGINAL-URL:https://fundart.com.br
X-WR-CALDESC:Eventos para FundArt
BEGIN:VTIMEZONE
TZID:America/Sao_Paulo
BEGIN:STANDARD
TZOFFSETFROM:-0300
TZOFFSETTO:-0300
TZNAME:-03
DTSTART:20210101T000000
END:STANDARD
END:VTIMEZONE
BEGIN:VEVENT
DTSTART;TZID=America/Sao_Paulo:20211119T200000
DTEND;TZID=America/Sao_Paulo:20211119T220000
DTSTAMP:20260420T050251
CREATED:20211119T190107Z
LAST-MODIFIED:20211119T190107Z
UID:34017-1637352000-1637359200@fundart.com.br
SUMMARY:Concurso "A Mais Bela Negra" - Programação Consciência Negra
DESCRIPTION:
URL:https://fundart.com.br/evento/concurso-a-mais-bela-negra-programacao-consciencia-negra/
LOCATION:Teatro Municipal Pedro Paulo Teixeira Pinto
CATEGORIES:Concurso "A Mais Bela Negra"
ATTACH;FMTTYPE=image/jpeg:https://fundart.com.br/wp-content/uploads/2021/11/A-Mais-Bela-Negra-2021.jpeg
END:VEVENT
END:VCALENDAR