BEGIN:VCALENDAR
VERSION:2.0
PRODID:-//FundArt - ECPv5.12.2//NONSGML v1.0//EN
CALSCALE:GREGORIAN
METHOD:PUBLISH
X-WR-CALNAME:FundArt
X-ORIGINAL-URL:https://fundart.com.br
X-WR-CALDESC:Eventos para FundArt
BEGIN:VTIMEZONE
TZID:America/Sao_Paulo
BEGIN:STANDARD
TZOFFSETFROM:-0200
TZOFFSETTO:-0300
TZNAME:-03
DTSTART:20170219T020000
END:STANDARD
BEGIN:DAYLIGHT
TZOFFSETFROM:-0300
TZOFFSETTO:-0200
TZNAME:-02
DTSTART:20171015T030000
END:DAYLIGHT
END:VTIMEZONE
BEGIN:VEVENT
DTSTART;TZID=America/Sao_Paulo:20170514T160000
DTEND;TZID=America/Sao_Paulo:20170514T213000
DTSTAMP:20260425T105803
CREATED:20170508T193513Z
LAST-MODIFIED:20170508T193513Z
UID:18354-1494777600-1494797400@fundart.com.br
SUMMARY:Circuito Sesc de Artes em Ubatuba
DESCRIPTION:No domingo\, 14 de maio\, o rapper recifense Zé Brown apresenta o show Rap Repente na cidade de Ubatuba. Por lá\, também irá passar o Slam da Guilhermina\, um campeonato de poesia falada\, no qual concorrem três poetas que recitam textos autorais\, sem qualquer ajuda de figurinos\, adereços ou música. O público também vai se divertir com o palhaço Jerônimo e o espetáculo de circo Jerônimo Show\, no qual o artista utiliza instrumentos inusitados e apresenta números com o serrote musical\, a orquestra de sinos afinados e o piano de garrafas. Jerônimo e o espetáculo de circo Jerônimo Show\, no qual o artista utiliza instrumentos inusitados e apresenta números com o serrote musical\, a orquestra de sinos afinados e o piano de garrafas. Gabinete de Curiosidades e Habilidades\, que participa pelo segundo ano consecutivo com nova programação\, levando aos espaços públicos\, à moda dos traveling shows\, cinema\, literatura\, artes visuais e Tecnologias. Serão exibidos filmes mudos em curta metragem dirigidos e protagonizados por Charles Chaplin\, criador do personagem Carlitos\, e ainda oficinas de Composição Musical com Tinta e Makey Makey + Joalheria 3D\, além de um acervo de livros para atividades coletivas de leitura e mediação. \nAs apresentações serão realizadas na Praça Nóbrega\, centro de Ubatuba\, (em frente a Sede Administrativa da FundArt)\, com entrada gratuita. Nessa iniciativa\, o Sesc SP tem a parceria da Prefeitura de Ubatuba e FundArt. \nSERVIÇO:\nCircuito Sesc de Artes 2017\nPeríodo: 14 de maio – Domingo\, das 16h às 21h30.\nLocal: Praça Nóbrega – Centro (em frente a Sede Administrativa da FundArt)\nEntrada Gratuita.\nConfira a programação completa: http://circuito.sescsp.org.br/
URL:https://fundart.com.br/evento/circuito-sesc-de-artes-em-ubatuba/
LOCATION:Sede Administrativa FundArt\, Praça Nóbrega\, 54 - Centro\, Ubatuba\, 11680-000
CATEGORIES:Circuito Sesc de Artes
END:VEVENT
END:VCALENDAR