BEGIN:VCALENDAR
VERSION:2.0
PRODID:-//FundArt - ECPv5.12.2//NONSGML v1.0//EN
CALSCALE:GREGORIAN
METHOD:PUBLISH
X-WR-CALNAME:FundArt
X-ORIGINAL-URL:https://fundart.com.br
X-WR-CALDESC:Eventos para FundArt
BEGIN:VTIMEZONE
TZID:America/Sao_Paulo
BEGIN:STANDARD
TZOFFSETFROM:-0200
TZOFFSETTO:-0300
TZNAME:-03
DTSTART:20180218T020000
END:STANDARD
BEGIN:DAYLIGHT
TZOFFSETFROM:-0300
TZOFFSETTO:-0200
TZNAME:-02
DTSTART:20181104T030000
END:DAYLIGHT
END:VTIMEZONE
BEGIN:VEVENT
DTSTART;TZID=America/Sao_Paulo:20180908T210000
DTEND;TZID=America/Sao_Paulo:20180908T210000
DTSTAMP:20260424T124615
CREATED:20180904T185901Z
LAST-MODIFIED:20180904T185901Z
UID:25597-1536440400-1536440400@fundart.com.br
SUMMARY:Chico Teixeira faz show de lançamento do álbum “Raízes Sertanejas ao Vivo”
DESCRIPTION:O cantor\, compositor e violeiro Chico Teixeira acaba de anunciar o show de lançamento do álbum “Raízes Sertanejas ao Vivo”\, no próximo dia 8 de setembro\, às 21h\, no Teatro Municipal de Ubatuba\, localizado à 22\, Praça Exaltação à Santa Cruz – Centro\, Ubatuba – SP. \nO show conta com apoio da prefeitura municipal de Ubatuba e da FundArt
URL:https://fundart.com.br/evento/chico-teixeira-faz-show-de-lancamento-do-album-raizes-sertanejas-ao-vivo/
LOCATION:Teatro Municipal de Ubatuba\, Ubatuba
CATEGORIES:Música
END:VEVENT
END:VCALENDAR