BEGIN:VCALENDAR
VERSION:2.0
PRODID:-//FundArt - ECPv5.12.2//NONSGML v1.0//EN
CALSCALE:GREGORIAN
METHOD:PUBLISH
X-WR-CALNAME:FundArt
X-ORIGINAL-URL:https://fundart.com.br
X-WR-CALDESC:Eventos para FundArt
BEGIN:VTIMEZONE
TZID:America/Sao_Paulo
BEGIN:STANDARD
TZOFFSETFROM:-0200
TZOFFSETTO:-0300
TZNAME:-03
DTSTART:20190217T020000
END:STANDARD
END:VTIMEZONE
BEGIN:VEVENT
DTSTART;TZID=America/Sao_Paulo:20190303T160000
DTEND;TZID=America/Sao_Paulo:20190305T180000
DTSTAMP:20260422T065321
CREATED:20181228T151447Z
LAST-MODIFIED:20190130T131809Z
UID:26529-1551628800-1551808800@fundart.com.br
SUMMARY:Carnaval Histórico (Matinê/Baile)
DESCRIPTION:
URL:https://fundart.com.br/evento/carnaval-historico-matine-baile/
END:VEVENT
END:VCALENDAR