BEGIN:VCALENDAR
VERSION:2.0
PRODID:-//FundArt - ECPv5.12.2//NONSGML v1.0//EN
CALSCALE:GREGORIAN
METHOD:PUBLISH
X-WR-CALNAME:FundArt
X-ORIGINAL-URL:https://fundart.com.br
X-WR-CALDESC:Eventos para FundArt
BEGIN:VTIMEZONE
TZID:America/Sao_Paulo
BEGIN:STANDARD
TZOFFSETFROM:-0200
TZOFFSETTO:-0300
TZNAME:-03
DTSTART:20190217T020000
END:STANDARD
END:VTIMEZONE
BEGIN:VEVENT
DTSTART;TZID=America/Sao_Paulo:20190112T210000
DTEND;TZID=America/Sao_Paulo:20190112T210000
DTSTAMP:20260424T053035
CREATED:20190102T135901Z
LAST-MODIFIED:20190102T161852Z
UID:26561-1547326800-1547326800@fundart.com.br
SUMMARY:Caravana FundArt de Cultura - Zé Gambiarra Circo Show
DESCRIPTION:Caravana FundArt de Cultura – Zé Gambiarra Circo Show\n(Cia. Fulô) \nData: 12 de janeiro – sábado\nHorário: 21h\nLocal: Av. Iperoig\, 214 – Centro (em frente ao prédio da Secretaria de Turismo)
URL:https://fundart.com.br/evento/caravana-fundart-de-cultura-ze-gambiarra-circo-show-2/
LOCATION:Av. Iperoig
CATEGORIES:Caravana FundArt de Cultura
ATTACH;FMTTYPE=image/jpeg:https://fundart.com.br/wp-content/uploads/2019/01/flyer-caravana-2019-10x15-finalizado-1.jpg
ORGANIZER;CN="FundArt":MAILTO:contato@fundart.com.br
END:VEVENT
END:VCALENDAR