BEGIN:VCALENDAR
VERSION:2.0
PRODID:-//FundArt - ECPv5.12.2//NONSGML v1.0//EN
CALSCALE:GREGORIAN
METHOD:PUBLISH
X-WR-CALNAME:FundArt
X-ORIGINAL-URL:https://fundart.com.br
X-WR-CALDESC:Eventos para FundArt
BEGIN:VTIMEZONE
TZID:America/Sao_Paulo
BEGIN:STANDARD
TZOFFSETFROM:-0200
TZOFFSETTO:-0300
TZNAME:-03
DTSTART:20190217T020000
END:STANDARD
END:VTIMEZONE
BEGIN:VEVENT
DTSTART;TZID=America/Sao_Paulo:20190126T200000
DTEND;TZID=America/Sao_Paulo:20190126T210000
DTSTAMP:20260422T081902
CREATED:20190102T162912Z
LAST-MODIFIED:20190102T162912Z
UID:26565-1548532800-1548536400@fundart.com.br
SUMMARY:Caravana FundArt de Cultura - Cirque Tal Pocket Show
DESCRIPTION:Caravana FundArt de Cultura – Cirque Tal Pocket Show\n(Trupe Cirque Tal?) \nData: 26 de janeiro – sábado \nHorário: 20h\nLocal: Praça da Baleira – Itaguá \nHorário: 21h\nLocal: Av. Iperoig\, 214 – Centro (em frente ao prédio da Secretaria de Turismo)
URL:https://fundart.com.br/evento/caravana-fundart-de-cultura-cirque-tal-pocket-show/
LOCATION:Praça da Baleia\, Itaguá\, Ubatuba
CATEGORIES:Caravana FundArt de Cultura
ATTACH;FMTTYPE=image/jpeg:https://fundart.com.br/wp-content/uploads/2019/01/flyer-caravana-2019-10x15-finalizado-1.jpg
ORGANIZER;CN="FundArt":MAILTO:contato@fundart.com
END:VEVENT
END:VCALENDAR