BEGIN:VCALENDAR
VERSION:2.0
PRODID:-//FundArt - ECPv5.12.2//NONSGML v1.0//EN
CALSCALE:GREGORIAN
METHOD:PUBLISH
X-WR-CALNAME:FundArt
X-ORIGINAL-URL:https://fundart.com.br
X-WR-CALDESC:Eventos para FundArt
BEGIN:VTIMEZONE
TZID:America/Sao_Paulo
BEGIN:STANDARD
TZOFFSETFROM:-0200
TZOFFSETTO:-0300
TZNAME:-03
DTSTART:20190217T020000
END:STANDARD
END:VTIMEZONE
BEGIN:VEVENT
DTSTART;TZID=America/Sao_Paulo:20191214T210000
DTEND;TZID=America/Sao_Paulo:20191214T210000
DTSTAMP:20260420T004500
CREATED:20191203T150639Z
LAST-MODIFIED:20191203T150639Z
UID:29689-1576357200-1576357200@fundart.com.br
SUMMARY:Cantata em Libras
DESCRIPTION:
URL:https://fundart.com.br/evento/cantata-em-libras/
LOCATION:Coreto\, Praça Exaltação da Santa Cruz – Centro
CATEGORIES:Cantata em Libras
END:VEVENT
END:VCALENDAR