BEGIN:VCALENDAR
VERSION:2.0
PRODID:-//FundArt - ECPv5.12.2//NONSGML v1.0//EN
CALSCALE:GREGORIAN
METHOD:PUBLISH
X-WR-CALNAME:FundArt
X-ORIGINAL-URL:https://fundart.com.br
X-WR-CALDESC:Eventos para FundArt
BEGIN:VTIMEZONE
TZID:America/Sao_Paulo
BEGIN:STANDARD
TZOFFSETFROM:-0200
TZOFFSETTO:-0300
TZNAME:-03
DTSTART:20160221T020000
END:STANDARD
BEGIN:DAYLIGHT
TZOFFSETFROM:-0300
TZOFFSETTO:-0200
TZNAME:-02
DTSTART:20161016T030000
END:DAYLIGHT
END:VTIMEZONE
BEGIN:VEVENT
DTSTART;TZID=America/Sao_Paulo:20161130T150000
DTEND;TZID=America/Sao_Paulo:20161202T220000
DTSTAMP:20260425T184710
CREATED:20161116T112939Z
LAST-MODIFIED:20161129T194506Z
UID:16091-1480518000-1480716000@fundart.com.br
SUMMARY:Caldeirada Cultural - Encerramento das oficinas culturais da FundArt
DESCRIPTION:Encerrando mais um ano de atividades do projeto de oficinas culturais “Arte Para Todos”\, a FundArt convida a todos para prestigiar as apresentações na “Caldeirada Cultural” que acontecerá de 30 de novembro a 2 de dezembro no Sobradão do Porto. \nEstarão expostos os trabalhos produzidos nas oficinas de fotografia\, pintura em tela\, desenho\, tecelagem\, cestaria quilombola\, corte e costura e turismo cultural. Além das exposições\, o espaço receberá também apresentações das oficinas de piano\, capoeira\, violão\, cavaquinho\, teatro\, canto lírico\, dança do ventre e mais uma edição do Sarau Literário do Grupo Setorial de Literatura da FundArt.
URL:https://fundart.com.br/evento/caldeirada-cultural-encerramento-das-oficinas-culturais-da-fundart/
LOCATION:Sobradão do Porto\, Praça Anchieta\, 32 - centro\, Ubatuba
CATEGORIES:Arte Para Todos,Oficinas
ORGANIZER;CN="FundArt":MAILTO:contato@fundart.com
END:VEVENT
END:VCALENDAR