BEGIN:VCALENDAR
VERSION:2.0
PRODID:-//FundArt - ECPv5.12.2//NONSGML v1.0//EN
CALSCALE:GREGORIAN
METHOD:PUBLISH
X-WR-CALNAME:FundArt
X-ORIGINAL-URL:https://fundart.com.br
X-WR-CALDESC:Eventos para FundArt
BEGIN:VTIMEZONE
TZID:America/Sao_Paulo
BEGIN:STANDARD
TZOFFSETFROM:-0200
TZOFFSETTO:-0300
TZNAME:-03
DTSTART:20180218T020000
END:STANDARD
BEGIN:DAYLIGHT
TZOFFSETFROM:-0300
TZOFFSETTO:-0200
TZNAME:-02
DTSTART:20181104T030000
END:DAYLIGHT
END:VTIMEZONE
BEGIN:VEVENT
DTSTART;TZID=America/Sao_Paulo:20180714T190000
DTEND;TZID=America/Sao_Paulo:20180714T190000
DTSTAMP:20260424T153141
CREATED:20180704T173636Z
LAST-MODIFIED:20180704T173636Z
UID:24961-1531594800-1531594800@fundart.com.br
SUMMARY:Banda Lira Padre Anchieta se apresenta no Festival do Camarão
DESCRIPTION:Banda Lira Padre Anchieta\nFestival do Camarão\nLocal: Praça de Eventos de Caraguatatuba\nHorário: 19:00hrs
URL:https://fundart.com.br/evento/banda-lira-padre-anchieta-se-apresenta-no-festival-do-camarao/
ATTACH;FMTTYPE=image/jpeg:https://fundart.com.br/wp-content/uploads/2017/04/FOTO-BANDA-LIRA-2.jpg
END:VEVENT
END:VCALENDAR