BEGIN:VCALENDAR
VERSION:2.0
PRODID:-//FundArt - ECPv5.12.2//NONSGML v1.0//EN
CALSCALE:GREGORIAN
METHOD:PUBLISH
X-WR-CALNAME:FundArt
X-ORIGINAL-URL:https://fundart.com.br
X-WR-CALDESC:Eventos para FundArt
BEGIN:VTIMEZONE
TZID:America/Sao_Paulo
BEGIN:STANDARD
TZOFFSETFROM:-0200
TZOFFSETTO:-0300
TZNAME:-03
DTSTART:20180218T020000
END:STANDARD
BEGIN:DAYLIGHT
TZOFFSETFROM:-0300
TZOFFSETTO:-0200
TZNAME:-02
DTSTART:20181104T030000
END:DAYLIGHT
END:VTIMEZONE
BEGIN:VEVENT
DTSTART;TZID=America/Sao_Paulo:20180723T190000
DTEND;TZID=America/Sao_Paulo:20180723T190000
DTSTAMP:20260424T153446
CREATED:20180704T173826Z
LAST-MODIFIED:20180704T173826Z
UID:24963-1532372400-1532372400@fundart.com.br
SUMMARY:Banda Lira Padre Anchieta se apresenta na abertura da XX Semana da Educação
DESCRIPTION:Banda Lira Padre Anchieta se apresenta na abertura da XX Semana da Educação.\nLocal: Teatro Municipal de Ubatuba\nHorário: 19:00hrs
URL:https://fundart.com.br/evento/banda-lira-padre-anchieta-se-apresenta-na-abertura-da-xx-semana-da-educacao/
CATEGORIES:Banda Lira Padre Anchieta
ATTACH;FMTTYPE=image/jpeg:https://fundart.com.br/wp-content/uploads/2014/12/Banda-Lira-web1.jpg
END:VEVENT
END:VCALENDAR