BEGIN:VCALENDAR
VERSION:2.0
PRODID:-//FundArt - ECPv5.12.2//NONSGML v1.0//EN
CALSCALE:GREGORIAN
METHOD:PUBLISH
X-WR-CALNAME:FundArt
X-ORIGINAL-URL:https://fundart.com.br
X-WR-CALDESC:Eventos para FundArt
BEGIN:VTIMEZONE
TZID:America/Sao_Paulo
BEGIN:STANDARD
TZOFFSETFROM:-0200
TZOFFSETTO:-0300
TZNAME:-03
DTSTART:20180218T020000
END:STANDARD
BEGIN:DAYLIGHT
TZOFFSETFROM:-0300
TZOFFSETTO:-0200
TZNAME:-02
DTSTART:20181104T030000
END:DAYLIGHT
END:VTIMEZONE
BEGIN:VEVENT
DTSTART;TZID=America/Sao_Paulo:20181014T070000
DTEND;TZID=America/Sao_Paulo:20181014T070000
DTSTAMP:20260424T110407
CREATED:20181004T202851Z
LAST-MODIFIED:20181010T143305Z
UID:25951-1539500400-1539500400@fundart.com.br
SUMMARY:Banda Lira Padre Anchieta no Festival de Bandas e Fanfarras
DESCRIPTION:Banda Lira Padre Anchieta no Festival de Bandas e Fanfarras\nData: 14 de outubro\nLocal: Avenida Leovigildo Dias Vieira – Itaguá\nHorário: 08h
URL:https://fundart.com.br/evento/banda-lira-padre-anchieta-no-festival-de-bandas-e-fanfarras/
LOCATION:Avenida Leovigildo Dias Vieira
CATEGORIES:Banda Lira Padre Anchieta
ATTACH;FMTTYPE=image/jpeg:https://fundart.com.br/wp-content/uploads/2018/01/FOTO-BANDA-LIRA-2.jpg
END:VEVENT
END:VCALENDAR