BEGIN:VCALENDAR
VERSION:2.0
PRODID:-//FundArt - ECPv5.12.2//NONSGML v1.0//EN
CALSCALE:GREGORIAN
METHOD:PUBLISH
X-WR-CALNAME:FundArt
X-ORIGINAL-URL:https://fundart.com.br
X-WR-CALDESC:Eventos para FundArt
BEGIN:VTIMEZONE
TZID:America/Sao_Paulo
BEGIN:STANDARD
TZOFFSETFROM:-0200
TZOFFSETTO:-0300
TZNAME:-03
DTSTART:20180218T020000
END:STANDARD
BEGIN:DAYLIGHT
TZOFFSETFROM:-0300
TZOFFSETTO:-0200
TZNAME:-02
DTSTART:20181104T030000
END:DAYLIGHT
END:VTIMEZONE
BEGIN:VEVENT
DTSTART;TZID=America/Sao_Paulo:20180316T200000
DTEND;TZID=America/Sao_Paulo:20180316T200000
DTSTAMP:20260424T210137
CREATED:20180315T192547Z
LAST-MODIFIED:20180315T192547Z
UID:23367-1521230400-1521230400@fundart.com.br
SUMMARY:Bachiana Filarmônica em Ubatuba
DESCRIPTION:Em comemoração ao Mês da Mulher\, celebrado a partir do Dia Internacional da Mulher\, dia 8 de março\, a Prefeitura de Ubatuba preparou uma programação diversificada. \nSob a regência do mundialmente conhecido maestro João Carlos Martins\, a orquestra promete encantar o público de todas as idades entoando canções como “Yesterday” da banda Britânica Beatles e do clássico popular “Trem das Onze”\, eternizado pelos demônios da Garoa. \nMantida pelo SESI-SP\, a orquestra\, formada por jovens e experientes instrumentistas de diversas idades\, sob a direção do maestro João Carlos Martins\, representa ação relevante no apoio à música erudita e ao desenvolvimento de seus integrantes. \nO concerto acontece nesta sexta-feira\, na Praça de Eventos\, que fica na Av. Iperoig. Acesse e saiba mais: http://bit.ly/orquestra-bachiana.
URL:https://fundart.com.br/evento/bachiana-filarmonica-em-ubatuba/
LOCATION:Praça de Eventos\, Av. Iperoig - Centro\, Ubatuba
CATEGORIES:Música
ATTACH;FMTTYPE=image/jpeg:https://fundart.com.br/wp-content/uploads/2018/03/29244532_1781727858554406_3320601443038672539_n.jpg
END:VEVENT
END:VCALENDAR