BEGIN:VCALENDAR
VERSION:2.0
PRODID:-//FundArt - ECPv5.12.2//NONSGML v1.0//EN
CALSCALE:GREGORIAN
METHOD:PUBLISH
X-WR-CALNAME:FundArt
X-ORIGINAL-URL:https://fundart.com.br
X-WR-CALDESC:Eventos para FundArt
BEGIN:VTIMEZONE
TZID:America/Sao_Paulo
BEGIN:STANDARD
TZOFFSETFROM:-0200
TZOFFSETTO:-0300
TZNAME:-03
DTSTART:20180218T020000
END:STANDARD
BEGIN:DAYLIGHT
TZOFFSETFROM:-0300
TZOFFSETTO:-0200
TZNAME:-02
DTSTART:20181104T030000
END:DAYLIGHT
END:VTIMEZONE
BEGIN:VEVENT
DTSTART;TZID=America/Sao_Paulo:20181006T090000
DTEND;TZID=America/Sao_Paulo:20181007T090000
DTSTAMP:20260424T110208
CREATED:20181002T120332Z
LAST-MODIFIED:20181002T120332Z
UID:25919-1538816400-1538902800@fundart.com.br
SUMMARY:AVIFEST - Festejo de Amor às Aves\, Natureza e Cultura
DESCRIPTION:2º AVIFEST Festejo de Amor às Aves\, Natureza e Cultura. A programação gratuita\, inclui as famosas passarinhadas terrestres e aquáticas\, conhecidas como saídas de campo para observação de aves. Será possível visitar os famosos beija-flores do Sr. Jonas\, a Fazenda Folha Verde\, além das passarinhadas pelo Rio Cajarana conduzidas por barqueiros capacitados.
URL:https://fundart.com.br/evento/avifest-festejo-de-amor-as-aves-natureza-e-cultura/
LOCATION:Folha Seca
ATTACH;FMTTYPE=image/jpeg:https://fundart.com.br/wp-content/uploads/2018/10/t1uv2fABF0275.jpg
END:VEVENT
END:VCALENDAR