BEGIN:VCALENDAR
VERSION:2.0
PRODID:-//FundArt - ECPv5.12.2//NONSGML v1.0//EN
CALSCALE:GREGORIAN
METHOD:PUBLISH
X-WR-CALNAME:FundArt
X-ORIGINAL-URL:https://fundart.com.br
X-WR-CALDESC:Eventos para FundArt
BEGIN:VTIMEZONE
TZID:America/Sao_Paulo
BEGIN:STANDARD
TZOFFSETFROM:-0200
TZOFFSETTO:-0300
TZNAME:-03
DTSTART:20190217T020000
END:STANDARD
END:VTIMEZONE
BEGIN:VEVENT
DTSTART;TZID=America/Sao_Paulo:20191203T113000
DTEND;TZID=America/Sao_Paulo:20191203T113000
DTSTAMP:20260421T174616
CREATED:20191203T143252Z
LAST-MODIFIED:20191203T143252Z
UID:29658-1575372600-1575372600@fundart.com.br
SUMMARY:Apresentação Musical com o Grupo Free Som
DESCRIPTION:Dia Internacional da Pessoa com Deficiência
URL:https://fundart.com.br/evento/apresentacao-musical-com-o-grupo-free-som-14/
LOCATION:Terminal Turístico do Perequê Açu
CATEGORIES:Free Som
END:VEVENT
END:VCALENDAR