BEGIN:VCALENDAR
VERSION:2.0
PRODID:-//FundArt - ECPv5.12.2//NONSGML v1.0//EN
CALSCALE:GREGORIAN
METHOD:PUBLISH
X-WR-CALNAME:FundArt
X-ORIGINAL-URL:https://fundart.com.br
X-WR-CALDESC:Eventos para FundArt
BEGIN:VTIMEZONE
TZID:America/Sao_Paulo
BEGIN:STANDARD
TZOFFSETFROM:-0200
TZOFFSETTO:-0300
TZNAME:-03
DTSTART:20180218T020000
END:STANDARD
BEGIN:DAYLIGHT
TZOFFSETFROM:-0300
TZOFFSETTO:-0200
TZNAME:-02
DTSTART:20181104T030000
END:DAYLIGHT
END:VTIMEZONE
BEGIN:VEVENT
DTSTART;TZID=America/Sao_Paulo:20180219T180000
DTEND;TZID=America/Sao_Paulo:20180219T180000
DTSTAMP:20260424T223026
CREATED:20180202T132326Z
LAST-MODIFIED:20180202T132456Z
UID:22894-1519063200-1519063200@fundart.com.br
SUMMARY:Apresentação Musical com o Grupo Free Som
DESCRIPTION:O Grupo Free Som\, vinculado á Banda Lira Padre Anchieta\, se apresenta dia 19 de fevereiro\, no Centro de Convenções\, às 18h no Abertura do Ano Letivo da Secretaria Municipal de Educação. \n 
URL:https://fundart.com.br/evento/apresentacao-musical-com-o-grupo-free-som-12/
LOCATION:Centro de Convenções de Ubatuba\, Atrás do Aeroporto\, Ubatuba
CATEGORIES:Banda Lira Padre Anchieta,Free Som
ATTACH;FMTTYPE=image/jpeg:https://fundart.com.br/wp-content/uploads/2017/10/Free-Som.jpg
END:VEVENT
END:VCALENDAR