BEGIN:VCALENDAR
VERSION:2.0
PRODID:-//FundArt - ECPv5.12.2//NONSGML v1.0//EN
CALSCALE:GREGORIAN
METHOD:PUBLISH
X-WR-CALNAME:FundArt
X-ORIGINAL-URL:https://fundart.com.br
X-WR-CALDESC:Eventos para FundArt
BEGIN:VTIMEZONE
TZID:America/Sao_Paulo
BEGIN:STANDARD
TZOFFSETFROM:-0200
TZOFFSETTO:-0300
TZNAME:-03
DTSTART:20190217T020000
END:STANDARD
END:VTIMEZONE
BEGIN:VEVENT
DTSTART;TZID=America/Sao_Paulo:20191212T150000
DTEND;TZID=America/Sao_Paulo:20191212T150000
DTSTAMP:20260421T161708
CREATED:20191203T145426Z
LAST-MODIFIED:20191203T145426Z
UID:29675-1576162800-1576162800@fundart.com.br
SUMMARY:Apresentação Musical com a Lira do Amanhã
DESCRIPTION:Conhecendo o Fórum de Ubatuba
URL:https://fundart.com.br/evento/apresentacao-musical-com-a-lira-do-amanha-2/
LOCATION:Fórum de Ubatuba\, Rua Sérgio Lucindo da Silva\, 571 – Estufa II
CATEGORIES:Banda Lira Padre Anchieta,Coro da Lira
END:VEVENT
END:VCALENDAR