BEGIN:VCALENDAR
VERSION:2.0
PRODID:-//FundArt - ECPv5.12.2//NONSGML v1.0//EN
CALSCALE:GREGORIAN
METHOD:PUBLISH
X-WR-CALNAME:FundArt
X-ORIGINAL-URL:https://fundart.com.br
X-WR-CALDESC:Eventos para FundArt
BEGIN:VTIMEZONE
TZID:America/Sao_Paulo
BEGIN:STANDARD
TZOFFSETFROM:-0200
TZOFFSETTO:-0300
TZNAME:-03
DTSTART:20190217T020000
END:STANDARD
END:VTIMEZONE
BEGIN:VEVENT
DTSTART;TZID=America/Sao_Paulo:20191214T200000
DTEND;TZID=America/Sao_Paulo:20191214T200000
DTSTAMP:20260420T032719
CREATED:20191203T150900Z
LAST-MODIFIED:20191203T150900Z
UID:29693-1576353600-1576353600@fundart.com.br
SUMMARY:Apresentação Musical com a Banda Lira Padre Anchieta
DESCRIPTION:Encerramento das atividades do Projeto Guapurubu
URL:https://fundart.com.br/evento/apresentacao-musical-com-a-banda-lira-padre-anchieta/
LOCATION:Sede do Projeto Guapurubu\, Rua Capitão Felipe\, 289 – Itaguá
CATEGORIES:Banda Lira Padre Anchieta
END:VEVENT
END:VCALENDAR