BEGIN:VCALENDAR
VERSION:2.0
PRODID:-//FundArt - ECPv5.12.2//NONSGML v1.0//EN
CALSCALE:GREGORIAN
METHOD:PUBLISH
X-WR-CALNAME:FundArt
X-ORIGINAL-URL:https://fundart.com.br
X-WR-CALDESC:Eventos para FundArt
BEGIN:VTIMEZONE
TZID:America/Sao_Paulo
BEGIN:STANDARD
TZOFFSETFROM:-0200
TZOFFSETTO:-0300
TZNAME:-03
DTSTART:20180218T020000
END:STANDARD
BEGIN:DAYLIGHT
TZOFFSETFROM:-0300
TZOFFSETTO:-0200
TZNAME:-02
DTSTART:20181104T030000
END:DAYLIGHT
END:VTIMEZONE
BEGIN:VEVENT
DTSTART;TZID=America/Sao_Paulo:20181203T120000
DTEND;TZID=America/Sao_Paulo:20181203T120000
DTSTAMP:20260423T050825
CREATED:20181217T133454Z
LAST-MODIFIED:20181217T133454Z
UID:26473-1543838400-1543838400@fundart.com.br
SUMMARY:Apresentação Grupo Free Som - Dia Internacional da Pessoa com Deficiência
DESCRIPTION:Apresentação Musical com o Grupo Free Som\nDia Internacional da Pessoa com Deficiência\nUNIR promove: Dia internacional da pessoa com deficiência\nData: 03 de dezembro – segunda-feira\nHora: 12h\nLocal: Terminal Turístico do Perequê Açu
URL:https://fundart.com.br/evento/apresentacao-grupo-free-som-dia-internacional-da-pessoa-com-deficiencia/
LOCATION:COMTUR\, Rua Madame Janina\, nº 28 (Terminal Turístico) Perequê-Açu\, Ubatuba\, 11680-000
CATEGORIES:Banda Lira Padre Anchieta
ATTACH;FMTTYPE=image/jpeg:https://fundart.com.br/wp-content/uploads/2017/10/Free-Som.jpg
END:VEVENT
END:VCALENDAR