BEGIN:VCALENDAR
VERSION:2.0
PRODID:-//FundArt - ECPv5.12.2//NONSGML v1.0//EN
CALSCALE:GREGORIAN
METHOD:PUBLISH
X-WR-CALNAME:FundArt
X-ORIGINAL-URL:https://fundart.com.br
X-WR-CALDESC:Eventos para FundArt
BEGIN:VTIMEZONE
TZID:America/Sao_Paulo
BEGIN:STANDARD
TZOFFSETFROM:-0200
TZOFFSETTO:-0300
TZNAME:-03
DTSTART:20180218T020000
END:STANDARD
BEGIN:DAYLIGHT
TZOFFSETFROM:-0300
TZOFFSETTO:-0200
TZNAME:-02
DTSTART:20181104T030000
END:DAYLIGHT
END:VTIMEZONE
BEGIN:VEVENT
DTSTART;TZID=America/Sao_Paulo:20181123T190000
DTEND;TZID=America/Sao_Paulo:20181123T190000
DTSTAMP:20260423T155226
CREATED:20181122T183557Z
LAST-MODIFIED:20181122T183557Z
UID:26275-1542999600-1542999600@fundart.com.br
SUMMARY:Apresentação dos alunos do "Lira do Amanhã"
DESCRIPTION:Apresentação dos alunos do “Lira do Amanhã”\nData: 23 de novembro – sexta-feira\nLocal: Circo Teatro Celeste  – Gaiato (bairro Ipiranguinha)\nHorário: 19h
URL:https://fundart.com.br/evento/apresentacao-dos-alunos-do-lira-do-amanha/
LOCATION:Gaiato Ubatuba\, Gaiato Ubatuba/Circo Teatro Celeste Rua das Palmeiras\, nº 200 - Ipiranguinha\, Ubatuba\, 11680-000
CATEGORIES:Banda Lira Padre Anchieta
ATTACH;FMTTYPE=image/png:https://fundart.com.br/wp-content/uploads/2018/11/Logo-banda-lira.png
END:VEVENT
END:VCALENDAR