BEGIN:VCALENDAR
VERSION:2.0
PRODID:-//FundArt - ECPv5.12.2//NONSGML v1.0//EN
CALSCALE:GREGORIAN
METHOD:PUBLISH
X-WR-CALNAME:FundArt
X-ORIGINAL-URL:https://fundart.com.br
X-WR-CALDESC:Eventos para FundArt
BEGIN:VTIMEZONE
TZID:America/Sao_Paulo
BEGIN:STANDARD
TZOFFSETFROM:-0200
TZOFFSETTO:-0300
TZNAME:-03
DTSTART:20180218T020000
END:STANDARD
BEGIN:DAYLIGHT
TZOFFSETFROM:-0300
TZOFFSETTO:-0200
TZNAME:-02
DTSTART:20181104T030000
END:DAYLIGHT
END:VTIMEZONE
BEGIN:VEVENT
DTSTART;TZID=America/Sao_Paulo:20181124T090000
DTEND;TZID=America/Sao_Paulo:20181124T170000
DTSTAMP:20260423T142618
CREATED:20181122T184443Z
LAST-MODIFIED:20181122T184443Z
UID:26278-1543050000-1543078800@fundart.com.br
SUMMARY:Apresentação do Lira do Amanhã no Festival Literário da E. M. Marina Salete
DESCRIPTION:Apresentação do Lira do Amanhã no Festival Literário da E. M. Marina Salete\nData: 24 de novembro – sábado\nApresentação dos  Alunos do Lira do Amanhã no Festival Literário da Escola Marina Salete\nLocal: E.E. Marina Salete –  bairro Perequê Açu\nHora: 09:00
URL:https://fundart.com.br/evento/apresentacao-do-lira-do-amanha-no-festival-literario-da-e-m-marina-salete/
LOCATION:E. M. Marina Salette\, Perequê Açú
CATEGORIES:Banda Lira Padre Anchieta
ATTACH;FMTTYPE=image/png:https://fundart.com.br/wp-content/uploads/2018/11/Logo-banda-lira.png
END:VEVENT
END:VCALENDAR