BEGIN:VCALENDAR
VERSION:2.0
PRODID:-//FundArt - ECPv5.12.2//NONSGML v1.0//EN
CALSCALE:GREGORIAN
METHOD:PUBLISH
X-WR-CALNAME:FundArt
X-ORIGINAL-URL:https://fundart.com.br
X-WR-CALDESC:Eventos para FundArt
BEGIN:VTIMEZONE
TZID:America/Sao_Paulo
BEGIN:STANDARD
TZOFFSETFROM:-0200
TZOFFSETTO:-0300
TZNAME:-03
DTSTART:20190217T020000
END:STANDARD
END:VTIMEZONE
BEGIN:VEVENT
DTSTART;TZID=America/Sao_Paulo:20191103T200000
DTEND;TZID=America/Sao_Paulo:20191103T200000
DTSTAMP:20260421T174529
CREATED:20191031T140044Z
LAST-MODIFIED:20191031T140044Z
UID:29376-1572811200-1572811200@fundart.com.br
SUMMARY:Apresentação do Coro da Lira
DESCRIPTION:Feira das Nações
URL:https://fundart.com.br/evento/apresentacao-do-coro-da-lira/
LOCATION:Av. Iperoig\, Centro\, Ubatuba
CATEGORIES:Coro da Lira,FundArt
END:VEVENT
END:VCALENDAR