BEGIN:VCALENDAR
VERSION:2.0
PRODID:-//FundArt - ECPv5.12.2//NONSGML v1.0//EN
CALSCALE:GREGORIAN
METHOD:PUBLISH
X-WR-CALNAME:FundArt
X-ORIGINAL-URL:https://fundart.com.br
X-WR-CALDESC:Eventos para FundArt
BEGIN:VTIMEZONE
TZID:America/Sao_Paulo
BEGIN:STANDARD
TZOFFSETFROM:-0300
TZOFFSETTO:-0300
TZNAME:-03
DTSTART:20210101T000000
END:STANDARD
END:VTIMEZONE
BEGIN:VEVENT
DTSTART;TZID=America/Sao_Paulo:20211123T180000
DTEND;TZID=America/Sao_Paulo:20211123T200000
DTSTAMP:20260420T050359
CREATED:20211119T194752Z
LAST-MODIFIED:20211119T194752Z
UID:34033-1637690400-1637697600@fundart.com.br
SUMMARY:Apresentação de Violão - Encerramento das Oficinas Culturais
DESCRIPTION:23/11 – Terça-feira às 18h\nViolão (Polo E.M. Renata Castilho – Saco da Ribeira)\nArte educadora: Célia Regina
URL:https://fundart.com.br/evento/apresentacao-de-violao-encerramento-das-oficinas-culturais/
LOCATION:Teatro Municipal Pedro Paulo Teixeira Pinto
CATEGORIES:Oficinas
ATTACH;FMTTYPE=image/png:https://fundart.com.br/wp-content/uploads/2021/11/encerramento-oficinas.png
END:VEVENT
END:VCALENDAR