BEGIN:VCALENDAR
VERSION:2.0
PRODID:-//FundArt - ECPv5.12.2//NONSGML v1.0//EN
CALSCALE:GREGORIAN
METHOD:PUBLISH
X-WR-CALNAME:FundArt
X-ORIGINAL-URL:https://fundart.com.br
X-WR-CALDESC:Eventos para FundArt
BEGIN:VTIMEZONE
TZID:America/Sao_Paulo
BEGIN:STANDARD
TZOFFSETFROM:-0300
TZOFFSETTO:-0300
TZNAME:-03
DTSTART:20210101T000000
END:STANDARD
END:VTIMEZONE
BEGIN:VEVENT
DTSTART;TZID=America/Sao_Paulo:20211120T160000
DTEND;TZID=America/Sao_Paulo:20211120T180000
DTSTAMP:20260420T050358
CREATED:20211119T194245Z
LAST-MODIFIED:20211119T194423Z
UID:34029-1637424000-1637431200@fundart.com.br
SUMMARY:Apresentação de Teatro - Encerramento das Oficinas Culturais
DESCRIPTION:20/11 – Sábado\n16h – Teatro (primeira sessão) Sede Municipal\n19h – Teatro (segunda sessão) Sede Municipal\nArte educadora: Bianca Almeida
URL:https://fundart.com.br/evento/apresentacao-de-teatro-encerramento-das-oficinas-culturais/
LOCATION:Teatro Municipal Pedro Paulo Teixeira Pinto
CATEGORIES:Oficinas
ATTACH;FMTTYPE=image/png:https://fundart.com.br/wp-content/uploads/2021/11/Um-Trem-Chamado-Desejo.png
END:VEVENT
END:VCALENDAR