BEGIN:VCALENDAR
VERSION:2.0
PRODID:-//FundArt - ECPv5.12.2//NONSGML v1.0//EN
CALSCALE:GREGORIAN
METHOD:PUBLISH
X-WR-CALNAME:FundArt
X-ORIGINAL-URL:https://fundart.com.br
X-WR-CALDESC:Eventos para FundArt
BEGIN:VTIMEZONE
TZID:America/Sao_Paulo
BEGIN:STANDARD
TZOFFSETFROM:-0300
TZOFFSETTO:-0300
TZNAME:-03
DTSTART:20210101T000000
END:STANDARD
END:VTIMEZONE
BEGIN:VEVENT
DTSTART;TZID=America/Sao_Paulo:20211124T200000
DTEND;TZID=America/Sao_Paulo:20211124T220000
DTSTAMP:20260422T053349
CREATED:20211119T194911Z
LAST-MODIFIED:20211119T194911Z
UID:34035-1637784000-1637791200@fundart.com.br
SUMMARY:Apresentação de Produção Executiva na Música - Encerramento das Oficinas Culturais
DESCRIPTION:24/11 – Quarta-feira às 20h\nProdução Executiva na Música (Sede Municipal)\nArte educador: Fábio Rocha
URL:https://fundart.com.br/evento/apresentacao-de-producao-executiva-na-musica-encerramento-das-oficinas-culturais/
LOCATION:Teatro Municipal Pedro Paulo Teixeira Pinto
CATEGORIES:Oficinas
ATTACH;FMTTYPE=image/png:https://fundart.com.br/wp-content/uploads/2021/11/encerramento-oficinas.png
END:VEVENT
END:VCALENDAR