BEGIN:VCALENDAR
VERSION:2.0
PRODID:-//FundArt - ECPv5.12.2//NONSGML v1.0//EN
CALSCALE:GREGORIAN
METHOD:PUBLISH
X-WR-CALNAME:FundArt
X-ORIGINAL-URL:https://fundart.com.br
X-WR-CALDESC:Eventos para FundArt
BEGIN:VTIMEZONE
TZID:America/Sao_Paulo
BEGIN:STANDARD
TZOFFSETFROM:-0200
TZOFFSETTO:-0300
TZNAME:-03
DTSTART:20160221T020000
END:STANDARD
BEGIN:DAYLIGHT
TZOFFSETFROM:-0300
TZOFFSETTO:-0200
TZNAME:-02
DTSTART:20161016T030000
END:DAYLIGHT
END:VTIMEZONE
BEGIN:VEVENT
DTSTART;TZID=America/Sao_Paulo:20161211T200000
DTEND;TZID=America/Sao_Paulo:20161211T200000
DTSTAMP:20260425T183445
CREATED:20161207T174622Z
LAST-MODIFIED:20161207T174622Z
UID:16274-1481486400-1481486400@fundart.com.br
SUMMARY:Apresentação de encerramento da Oficina de Dança do Ventre da FundArt
DESCRIPTION:
URL:https://fundart.com.br/evento/apresentacao-de-encerramento-da-oficina-de-danca-ventre-da-fundart/
LOCATION:Sobradão do Porto\, Praça Anchieta\, 32 - centro\, Ubatuba
CATEGORIES:Arte Para Todos,Oficinas
END:VEVENT
END:VCALENDAR