BEGIN:VCALENDAR
VERSION:2.0
PRODID:-//FundArt - ECPv5.12.2//NONSGML v1.0//EN
CALSCALE:GREGORIAN
METHOD:PUBLISH
X-WR-CALNAME:FundArt
X-ORIGINAL-URL:https://fundart.com.br
X-WR-CALDESC:Eventos para FundArt
BEGIN:VTIMEZONE
TZID:America/Sao_Paulo
BEGIN:STANDARD
TZOFFSETFROM:-0200
TZOFFSETTO:-0300
TZNAME:-03
DTSTART:20160221T020000
END:STANDARD
BEGIN:DAYLIGHT
TZOFFSETFROM:-0300
TZOFFSETTO:-0200
TZNAME:-02
DTSTART:20161016T030000
END:DAYLIGHT
END:VTIMEZONE
BEGIN:VEVENT
DTSTART;TZID=America/Sao_Paulo:20161209T203000
DTEND;TZID=America/Sao_Paulo:20161209T203000
DTSTAMP:20260425T184120
CREATED:20161123T132546Z
LAST-MODIFIED:20161207T175313Z
UID:16155-1481315400-1481315400@fundart.com.br
SUMMARY:Apresentação de encerramento da Oficina de Dança da FundArt 2017
DESCRIPTION:Apresentação de encerramento da Oficina de Dança da FundArt 2017\nDia 9 de dezembro às 20h30\nLocal: Centro de Convenções de Ubatuba
URL:https://fundart.com.br/evento/apresentacao-de-encerramento-da-oficina-de-danca-da-fundart-2017/
LOCATION:Centro de Convenções de Ubatuba\, Atrás do Aeroporto\, Ubatuba
CATEGORIES:Arte Para Todos,Ballet,Oficinas
ATTACH;FMTTYPE=image/jpeg:https://fundart.com.br/wp-content/uploads/2016/11/15032222_771746889630988_4608889380051895484_n.jpg
END:VEVENT
END:VCALENDAR