BEGIN:VCALENDAR
VERSION:2.0
PRODID:-//FundArt - ECPv5.12.2//NONSGML v1.0//EN
CALSCALE:GREGORIAN
METHOD:PUBLISH
X-WR-CALNAME:FundArt
X-ORIGINAL-URL:https://fundart.com.br
X-WR-CALDESC:Eventos para FundArt
BEGIN:VTIMEZONE
TZID:America/Sao_Paulo
BEGIN:STANDARD
TZOFFSETFROM:-0300
TZOFFSETTO:-0300
TZNAME:-03
DTSTART:20210101T000000
END:STANDARD
END:VTIMEZONE
BEGIN:VEVENT
DTSTART;TZID=America/Sao_Paulo:20211129T190000
DTEND;TZID=America/Sao_Paulo:20211129T210000
DTSTAMP:20260420T034805
CREATED:20211122T163642Z
LAST-MODIFIED:20211122T163642Z
UID:34044-1638212400-1638219600@fundart.com.br
SUMMARY:Apresentação de Cavaquinho e Violão - Encerramento das Oficinas Culturais
DESCRIPTION:29/11 – Segunda-feira às 19h30\nCavaquinho (Sede Municipal e Polo Sununga)\nArte educador: Paulo César \nViolão (Sede Municipal e Polo Gaiato – Ipiranguinha)\nArte educador: Raphaell Prado
URL:https://fundart.com.br/evento/apresentacao-de-cavaquinho-e-violao-encerramento-das-oficinas-culturais/
LOCATION:Teatro Municipal Pedro Paulo Teixeira Pinto
CATEGORIES:Oficinas
ATTACH;FMTTYPE=image/png:https://fundart.com.br/wp-content/uploads/2021/11/encerramento-oficinas.png
END:VEVENT
END:VCALENDAR