BEGIN:VCALENDAR
VERSION:2.0
PRODID:-//FundArt - ECPv5.12.2//NONSGML v1.0//EN
CALSCALE:GREGORIAN
METHOD:PUBLISH
X-WR-CALNAME:FundArt
X-ORIGINAL-URL:https://fundart.com.br
X-WR-CALDESC:Eventos para FundArt
BEGIN:VTIMEZONE
TZID:America/Sao_Paulo
BEGIN:STANDARD
TZOFFSETFROM:-0300
TZOFFSETTO:-0300
TZNAME:-03
DTSTART:20210101T000000
END:STANDARD
END:VTIMEZONE
BEGIN:VEVENT
DTSTART;TZID=America/Sao_Paulo:20211128T190000
DTEND;TZID=America/Sao_Paulo:20211128T210000
DTSTAMP:20260420T051826
CREATED:20211122T163129Z
LAST-MODIFIED:20211122T163253Z
UID:34041-1638126000-1638133200@fundart.com.br
SUMMARY:Apresentação de Capoeira\, Canto Popular Adultos e Dança Afro-Brasileira - Encerramento das Oficinas Culturais
DESCRIPTION:28/11 – Domingo às 19h\nCapoeira (Polo CERE – Itamambuca)\nArte educadora: Aline Cristina \nCanto Popular Adultos (Sede Municipal)\nArte educadora: Jéssica Martins  \nDança Afro-Brasileira (Polo CERE – Itamambuca)\nArte educadora: Aline Cristina
URL:https://fundart.com.br/evento/apresentacao-de-capoeira-canto-popular-adultos-e-danca-afro-brasileira-encerramento-das-oficinas-culturais/
LOCATION:Teatro Municipal Pedro Paulo Teixeira Pinto
CATEGORIES:Oficinas
ATTACH;FMTTYPE=image/png:https://fundart.com.br/wp-content/uploads/2021/11/encerramento-oficinas.png
END:VEVENT
END:VCALENDAR