BEGIN:VCALENDAR
VERSION:2.0
PRODID:-//FundArt - ECPv5.12.2//NONSGML v1.0//EN
CALSCALE:GREGORIAN
METHOD:PUBLISH
X-WR-CALNAME:FundArt
X-ORIGINAL-URL:https://fundart.com.br
X-WR-CALDESC:Eventos para FundArt
BEGIN:VTIMEZONE
TZID:America/Sao_Paulo
BEGIN:STANDARD
TZOFFSETFROM:-0300
TZOFFSETTO:-0300
TZNAME:-03
DTSTART:20210101T000000
END:STANDARD
END:VTIMEZONE
BEGIN:VEVENT
DTSTART;TZID=America/Sao_Paulo:20211117T193000
DTEND;TZID=America/Sao_Paulo:20211117T213000
DTSTAMP:20260420T050451
CREATED:20211117T194635Z
LAST-MODIFIED:20211117T194635Z
UID:33990-1637177400-1637184600@fundart.com.br
SUMMARY:Abertura da Exposição de Encerramento das Oficinas Culturais da FundArt
DESCRIPTION:De 17 a 30/11 – Exposição das Oficinas\nFibras Naturais e Pintura em Tecido com a Arte Educadora Maria Salete \nTear com a Arte Educadora Cristina Bishof \nBoneca Terapia e Boneca Inclusiva com a Arte Educadora Kelli Cristiane \nFotografia com o Arte Educador José Alfredo
URL:https://fundart.com.br/evento/abertura-da-exposicao-de-encerramento-das-oficinas-culturais-da-fundart/
LOCATION:Teatro Municipal Pedro Paulo Teixeira Pinto
CATEGORIES:Oficinas
ATTACH;FMTTYPE=image/jpeg:https://fundart.com.br/wp-content/uploads/2017/02/Marca-Arte-para-todos.jpg
END:VEVENT
END:VCALENDAR