BEGIN:VCALENDAR
VERSION:2.0
PRODID:-//FundArt - ECPv5.12.2//NONSGML v1.0//EN
CALSCALE:GREGORIAN
METHOD:PUBLISH
X-WR-CALNAME:FundArt
X-ORIGINAL-URL:https://fundart.com.br
X-WR-CALDESC:Eventos para FundArt
BEGIN:VTIMEZONE
TZID:America/Sao_Paulo
BEGIN:STANDARD
TZOFFSETFROM:-0200
TZOFFSETTO:-0300
TZNAME:-03
DTSTART:20180218T020000
END:STANDARD
BEGIN:DAYLIGHT
TZOFFSETFROM:-0300
TZOFFSETTO:-0200
TZNAME:-02
DTSTART:20181104T030000
END:DAYLIGHT
END:VTIMEZONE
BEGIN:VEVENT
DTSTART;VALUE=DATE:20180627
DTEND;VALUE=DATE:20180702
DTSTAMP:20260424T152745
CREATED:20180612T144301Z
LAST-MODIFIED:20180612T144804Z
UID:24482-1530057600-1530489599@fundart.com.br
SUMMARY:95ª Festa de São Pedro Pescador
DESCRIPTION:Este ano a festa acontece de 27 de junho a 1 de julho\, na avenida Iperoig \nAbrindo as festividades\, o palco do São Pedro recebe o tradicional concurso rainha dos pescadores\, atração que atrai muitos expectadores na torcida pela sua candidata favorita. Nesse mesmo espaço\, durante todos os dias do evento\, o público irá conferir também diversos shows musicais.O maior evento junino da região está chegando! O que começou em 1923 com uma missa em balsa improvisada sobre duas canoas\, hoje\, atrai turistas e moradores que encontram na festa de São Pedro um local de cultura e lazer. \nA culinária está representada por uma dezena de barracas que servirão diferentes opções de comidas e bebidas. Quem quiser apreciar algo tradicional poderá se deliciar na barraca da tainha\, coordenada pela Colônia de Pescadores Z10.  Desde 1977 o prato caiçara tem agradado o paladar dos visitantes tornando-se a marca registrada do evento. \nOs grupos tradicionais e de cultura popular também marcam presença na festa contando um pouco da nossa tão rica cultura brasileira\, caiçara. Este ano a Fundação destaca a participação dos grupos na programação do evento ampliando sua atuação a fim de contribuir com manutenção da cultura identitária local. \nAinda falando em tradição\, na sexta feira (29)\, dia de São Pedro Pescador\, acontece a procissão marítima\, que ocorre desde 1954\, e é famosa por suas embarcações decoradas e a “benção dos anzóis” – que protege e abençoa a pesca anual com fartura. Após a procissão marítima os fiéis acompanham a imagem de São Pedro até a Praça de Eventos\, local que recebe a missa campal. \nA festividade é organizada pela Prefeitura Municipal de Ubatuba por meio da FundArt em parceria com a Paróquia Exaltação da Santa Cruz\, Colônia Pescadores Z10\, AARCCA e a Comtur. Patrocínio Governo do Estado de São Paulo\, por meio da Secretaria de Cultura e Incorporadora Saint Martin. Prestigie a 95ª Festa de São Pedro Pescador! Em breve a programação completa!
URL:https://fundart.com.br/evento/95a-festa-de-sao-pedro-pescador/
LOCATION:Praça de Eventos\, Av. Iperoig\, Ubatuba
CATEGORIES:95ª Festa de São Pedro Pescador
ATTACH;FMTTYPE=image/jpeg:https://fundart.com.br/wp-content/uploads/2018/06/teaser-95-festa-de-sao-pedro.jpg
ORGANIZER;CN="FundArt":MAILTO:contato@fundart.com
END:VEVENT
END:VCALENDAR