BEGIN:VCALENDAR
VERSION:2.0
PRODID:-//FundArt - ECPv5.12.2//NONSGML v1.0//EN
CALSCALE:GREGORIAN
METHOD:PUBLISH
X-WR-CALNAME:FundArt
X-ORIGINAL-URL:https://fundart.com.br
X-WR-CALDESC:Eventos para FundArt
BEGIN:VTIMEZONE
TZID:America/Sao_Paulo
BEGIN:STANDARD
TZOFFSETFROM:-0200
TZOFFSETTO:-0300
TZNAME:-03
DTSTART:20190217T020000
END:STANDARD
END:VTIMEZONE
BEGIN:VEVENT
DTSTART;TZID=America/Sao_Paulo:20190812T180000
DTEND;TZID=America/Sao_Paulo:20190812T180000
DTSTAMP:20260421T212805
CREATED:20190808T122930Z
LAST-MODIFIED:20190808T122930Z
UID:28666-1565632800-1565632800@fundart.com.br
SUMMARY:7ª REUNIÃO ORDINÁRIA DO CONSELHO DELIBERATIVO DA FUNDART
DESCRIPTION:
URL:https://fundart.com.br/evento/7a-reuniao-ordinaria-do-conselho-deliberativo-da-fundart/
LOCATION:FundArt\, Praça Nóbrega\, 54 - centro\, Ubatuba
END:VEVENT
END:VCALENDAR