BEGIN:VCALENDAR
VERSION:2.0
PRODID:-//FundArt - ECPv5.12.2//NONSGML v1.0//EN
CALSCALE:GREGORIAN
METHOD:PUBLISH
X-WR-CALNAME:FundArt
X-ORIGINAL-URL:https://fundart.com.br
X-WR-CALDESC:Eventos para FundArt
BEGIN:VTIMEZONE
TZID:America/Sao_Paulo
BEGIN:STANDARD
TZOFFSETFROM:-0300
TZOFFSETTO:-0300
TZNAME:-03
DTSTART:20210101T000000
END:STANDARD
END:VTIMEZONE
BEGIN:VEVENT
DTSTART;TZID=America/Sao_Paulo:20211126T170000
DTEND;TZID=America/Sao_Paulo:20211126T210000
DTSTAMP:20260420T064118
CREATED:20211125T195225Z
LAST-MODIFIED:20211125T195225Z
UID:34068-1637946000-1637960400@fundart.com.br
SUMMARY:7ª Conferência Municipal de Cultura de Ubatuba
DESCRIPTION:
URL:https://fundart.com.br/evento/7a-conferencia-municipal-de-cultura-de-ubatuba/
LOCATION:Teatro Municipal Pedro Paulo Teixeira Pinto
ATTACH;FMTTYPE=image/jpeg:https://fundart.com.br/wp-content/uploads/2021/11/1dcbb0fe-95a9-4768-a415-53b90ae25d6a.JPG.jpg
END:VEVENT
END:VCALENDAR