BEGIN:VCALENDAR
VERSION:2.0
PRODID:-//FundArt - ECPv5.12.2//NONSGML v1.0//EN
CALSCALE:GREGORIAN
METHOD:PUBLISH
X-WR-CALNAME:FundArt
X-ORIGINAL-URL:https://fundart.com.br
X-WR-CALDESC:Eventos para FundArt
BEGIN:VTIMEZONE
TZID:America/Sao_Paulo
BEGIN:STANDARD
TZOFFSETFROM:-0300
TZOFFSETTO:-0300
TZNAME:-03
DTSTART:20220101T000000
END:STANDARD
END:VTIMEZONE
BEGIN:VEVENT
DTSTART;TZID=America/Sao_Paulo:20220327T170000
DTEND;TZID=America/Sao_Paulo:20220327T200000
DTSTAMP:20260419T234927
CREATED:20220304T151914Z
LAST-MODIFIED:20220325T152057Z
UID:34512-1648400400-1648411200@fundart.com.br
SUMMARY:7° Variéte Circense de Ubatuba (Edital de Apoio)
DESCRIPTION:
URL:https://fundart.com.br/evento/7-variete-circense-michele-mozena/
LOCATION:Teatro Municipal Pedro Paulo Teixeira Pinto
CATEGORIES:Edital de Apoio a Eventos da Municipalidade
ATTACH;FMTTYPE=image/jpeg:https://fundart.com.br/wp-content/uploads/2022/03/WhatsApp-Image-2022-03-04-at-11.58.32.jpeg
END:VEVENT
END:VCALENDAR