BEGIN:VCALENDAR
VERSION:2.0
PRODID:-//FundArt - ECPv5.12.2//NONSGML v1.0//EN
CALSCALE:GREGORIAN
METHOD:PUBLISH
X-WR-CALNAME:FundArt
X-ORIGINAL-URL:https://fundart.com.br
X-WR-CALDESC:Eventos para FundArt
BEGIN:VTIMEZONE
TZID:America/Sao_Paulo
BEGIN:STANDARD
TZOFFSETFROM:-0200
TZOFFSETTO:-0300
TZNAME:-03
DTSTART:20180218T020000
END:STANDARD
BEGIN:DAYLIGHT
TZOFFSETFROM:-0300
TZOFFSETTO:-0200
TZNAME:-02
DTSTART:20181104T030000
END:DAYLIGHT
END:VTIMEZONE
BEGIN:VEVENT
DTSTART;TZID=America/Sao_Paulo:20181011T080000
DTEND;TZID=America/Sao_Paulo:20181020T170000
DTSTAMP:20260424T110240
CREATED:20180928T133749Z
LAST-MODIFIED:20180928T133749Z
UID:25888-1539244800-1540054800@fundart.com.br
SUMMARY:3º FePET – Festival dos Pequenos Espaços Teatrais
DESCRIPTION:
URL:https://fundart.com.br/evento/3o-fepet-festival-dos-pequenos-espacos-teatrais/
CATEGORIES:Teatro
ATTACH;FMTTYPE=image/png:https://fundart.com.br/wp-content/uploads/2018/09/internetquadratoprogrammaFePET2018_RGB.png
END:VEVENT
END:VCALENDAR