BEGIN:VCALENDAR
VERSION:2.0
PRODID:-//FundArt - ECPv5.12.2//NONSGML v1.0//EN
CALSCALE:GREGORIAN
METHOD:PUBLISH
X-WR-CALNAME:FundArt
X-ORIGINAL-URL:https://fundart.com.br
X-WR-CALDESC:Eventos para FundArt
BEGIN:VTIMEZONE
TZID:America/Sao_Paulo
BEGIN:STANDARD
TZOFFSETFROM:-0300
TZOFFSETTO:-0300
TZNAME:-03
DTSTART:20210101T000000
END:STANDARD
END:VTIMEZONE
BEGIN:VEVENT
DTSTART;TZID=America/Sao_Paulo:20210422T190000
DTEND;TZID=America/Sao_Paulo:20210422T200000
DTSTAMP:20260420T124730
CREATED:20210419T124209Z
LAST-MODIFIED:20210419T124209Z
UID:32751-1619118000-1619121600@fundart.com.br
SUMMARY:2º Sarau Virtual - Em homenagem ao Dia Mundial do Livro e do Autor
DESCRIPTION:
URL:https://fundart.com.br/evento/2o-sarau-virtual-em-homenagem-ao-dia-mundial-do-livro-e-do-autor/
LOCATION:Online
CATEGORIES:Sarau
ATTACH;FMTTYPE=image/jpeg:https://fundart.com.br/wp-content/uploads/2021/04/WhatsApp-Image-2021-04-14-at-10.53.55.jpeg
END:VEVENT
END:VCALENDAR