BEGIN:VCALENDAR
VERSION:2.0
PRODID:-//FundArt - ECPv5.12.2//NONSGML v1.0//EN
CALSCALE:GREGORIAN
METHOD:PUBLISH
X-WR-CALNAME:FundArt
X-ORIGINAL-URL:https://fundart.com.br
X-WR-CALDESC:Eventos para FundArt
BEGIN:VTIMEZONE
TZID:America/Sao_Paulo
BEGIN:STANDARD
TZOFFSETFROM:-0200
TZOFFSETTO:-0300
TZNAME:-03
DTSTART:20190217T020000
END:STANDARD
END:VTIMEZONE
BEGIN:VEVENT
DTSTART;TZID=America/Sao_Paulo:20190323T090000
DTEND;TZID=America/Sao_Paulo:20190323T160000
DTSTAMP:20260422T053151
CREATED:20190319T202810Z
LAST-MODIFIED:20190319T202810Z
UID:27351-1553331600-1553356800@fundart.com.br
SUMMARY:2º Fórum de Artes Cênicas de Ubatuba | Teatro - Circo - Dança
DESCRIPTION:
URL:https://fundart.com.br/evento/2o-forum-de-artes-cenicas-de-ubatuba-teatro-circo-danca/
LOCATION:Biblioteca Pública Municipal\, Praça 13 de Maio - centro\, Ubatuba
CATEGORIES:Artes Cênicas
ATTACH;FMTTYPE=image/jpeg:https://fundart.com.br/wp-content/uploads/2019/03/CARTAZ-FORUMop2psd-1.jpg
END:VEVENT
END:VCALENDAR