BEGIN:VCALENDAR
VERSION:2.0
PRODID:-//FundArt - ECPv5.12.2//NONSGML v1.0//EN
CALSCALE:GREGORIAN
METHOD:PUBLISH
X-WR-CALNAME:FundArt
X-ORIGINAL-URL:https://fundart.com.br
X-WR-CALDESC:Eventos para FundArt
BEGIN:VTIMEZONE
TZID:America/Sao_Paulo
BEGIN:STANDARD
TZOFFSETFROM:-0200
TZOFFSETTO:-0300
TZNAME:-03
DTSTART:20180218T020000
END:STANDARD
BEGIN:DAYLIGHT
TZOFFSETFROM:-0300
TZOFFSETTO:-0200
TZNAME:-02
DTSTART:20181104T030000
END:DAYLIGHT
END:VTIMEZONE
BEGIN:VEVENT
DTSTART;TZID=America/Sao_Paulo:20180324T110000
DTEND;TZID=America/Sao_Paulo:20180324T120000
DTSTAMP:20260424T205848
CREATED:20180316T181817Z
LAST-MODIFIED:20180316T182408Z
UID:23391-1521889200-1521892800@fundart.com.br
SUMMARY:Apresentação "O Gato de Botas" em Ubatuba
DESCRIPTION:Evento é gratuito e ocorre na Praça Nóbrega \nQue tal embarcar em uma viagem com os palhaços Violeta e Amarelo? \nApós terem seu circo fechado\, os dois decidem sair pelo mundo e explorá-lo… durante essas viagens\, os personagens conversam sobre as coisas que foram se perdendo com o tempo\, as brincadeiras de roda que não fazem mais parte do cotidiano das crianças\, cantigas\, costume de ir ao teatro e até ao circo… \nEssa conversa deixa o palhaço Violeta desanimado\, como se ele não tivesse mais lugar nesse “novo mundo”. Amarelo\, buscando ajudar o amigo\, se lembra de uma velha história\, onde um rapaz recebe de herança do seu pai um gato. \nAo ganhar o gato\, o rapaz fica desiludido pensando o que faria com ele e qual utilidade teria aquele presente. Mal sabia que não era um gato qualquer\, e as grandes aventuras que o esperavam junto ao Gato de Botas. \nFicou curioso para saber o desfecho dessa história? Então venha assistir “O Gato de Botas” com a Cia. de Teatro Evoé! A divertida apresentação acontece na Praça Nóbrega –  Centro\, no dia 24 de março\, às 11 horas. \nO evento é uma realização do Governo do Estado de São Paulo por meio da Secretaria da Cultura\, execução Associação Paulista dos Amigos da Arte e conta com o apoio local da Prefeitura Municipal de Ubatuba através da FundArt. A classificação é livre – toda a família está convidada! \nSERVIÇO: \nO Gato de Botas – Cia. de Teatro Evoé\nData: 24 de março (sábado)\nHorário: 11h\nLocal: Praça Nóbrega – Centro\nTexto e direção: Rodrigo Ximarelli\nElenco Lucas Barbugiani e Rodrigo Ximarelli\nFigurinos: Dimas Stecca\nVisagismo: Gil Oliveira\nTécnico de Luz e Som: Rafael Fernandes\nRealização: Secretaria da Cultura e Governo do Estado de São Paulo\nExecução: APAA – Associação Paulista dos Amigos da Arte\nApoio: FundArt e Prefeitura Municipal de Ubatuba\nEvento gratuito
URL:https://fundart.com.br/evento/23391/
LOCATION:Praça Nóbrega\, Centro\, Ubatuba\, 11680-000
CATEGORIES:Teatro
ATTACH;FMTTYPE=image/jpeg:https://fundart.com.br/wp-content/uploads/2018/03/29249635_1233102543490326_8538868470232645632_n.jpg
END:VEVENT
END:VCALENDAR