BEGIN:VCALENDAR
VERSION:2.0
PRODID:-//FundArt - ECPv5.12.2//NONSGML v1.0//EN
CALSCALE:GREGORIAN
METHOD:PUBLISH
X-WR-CALNAME:FundArt
X-ORIGINAL-URL:https://fundart.com.br
X-WR-CALDESC:Eventos para FundArt
BEGIN:VTIMEZONE
TZID:America/Sao_Paulo
BEGIN:STANDARD
TZOFFSETFROM:-0200
TZOFFSETTO:-0300
TZNAME:-03
DTSTART:20180218T020000
END:STANDARD
BEGIN:DAYLIGHT
TZOFFSETFROM:-0300
TZOFFSETTO:-0200
TZNAME:-02
DTSTART:20181104T030000
END:DAYLIGHT
END:VTIMEZONE
BEGIN:VEVENT
DTSTART;TZID=America/Sao_Paulo:20180705T190000
DTEND;TZID=America/Sao_Paulo:20180708T190000
DTSTAMP:20260424T152455
CREATED:20180704T173104Z
LAST-MODIFIED:20180704T173158Z
UID:24953-1530817200-1531076400@fundart.com.br
SUMMARY:18ª Festa da Mandioca
DESCRIPTION:18ª Festa da Mandioca acontece no sertão do Ubatumirim de 5 a 8 de julho.
URL:https://fundart.com.br/evento/18a-festa-da-mandioca/
ATTACH;FMTTYPE=image/jpeg:https://fundart.com.br/wp-content/uploads/2018/07/36573809_2123249087962834_1987682509214711808_n.jpg
END:VEVENT
END:VCALENDAR