BEGIN:VCALENDAR
VERSION:2.0
PRODID:-//FundArt - ECPv5.12.2//NONSGML v1.0//EN
CALSCALE:GREGORIAN
METHOD:PUBLISH
X-WR-CALNAME:FundArt
X-ORIGINAL-URL:https://fundart.com.br
X-WR-CALDESC:Eventos para FundArt
BEGIN:VTIMEZONE
TZID:America/Sao_Paulo
BEGIN:STANDARD
TZOFFSETFROM:-0200
TZOFFSETTO:-0300
TZNAME:-03
DTSTART:20190217T020000
END:STANDARD
END:VTIMEZONE
BEGIN:VEVENT
DTSTART;TZID=America/Sao_Paulo:20190228T190000
DTEND;TZID=America/Sao_Paulo:20190302T190000
DTSTAMP:20260422T053330
CREATED:20181228T151404Z
LAST-MODIFIED:20181228T151404Z
UID:26526-1551380400-1551553200@fundart.com.br
SUMMARY:14º Festival de Marchinhas Carnavalescas de Ubatuba
DESCRIPTION:
URL:https://fundart.com.br/evento/14o-festival-de-marchinhas-carnavalescas-de-ubatuba/
ATTACH;FMTTYPE=image/jpeg:https://fundart.com.br/wp-content/uploads/2018/12/48360149_959998917457610_2115234203158183936_n.jpg
END:VEVENT
END:VCALENDAR