BEGIN:VCALENDAR
VERSION:2.0
PRODID:-//FundArt - ECPv5.12.2//NONSGML v1.0//EN
CALSCALE:GREGORIAN
METHOD:PUBLISH
X-WR-CALNAME:FundArt
X-ORIGINAL-URL:https://fundart.com.br
X-WR-CALDESC:Eventos para FundArt
BEGIN:VTIMEZONE
TZID:America/Sao_Paulo
BEGIN:STANDARD
TZOFFSETFROM:-0200
TZOFFSETTO:-0300
TZNAME:-03
DTSTART:20190217T020000
END:STANDARD
END:VTIMEZONE
BEGIN:VEVENT
DTSTART;VALUE=DATE:20190906
DTEND;VALUE=DATE:20190909
DTSTAMP:20260421T200923
CREATED:20190102T133516Z
LAST-MODIFIED:20190102T133516Z
UID:26555-1567728000-1567987199@fundart.com.br
SUMMARY:14º Festival de Cultura Popular "Caiçarada"
DESCRIPTION:14º Festival de Cultura Popular “Caiçarada”\nDias 06\, 07 e 08 de setembro
URL:https://fundart.com.br/evento/14o-festival-de-cultura-popular-caicarada-2/
CATEGORIES:Caiçarada
ATTACH;FMTTYPE=image/jpeg:https://fundart.com.br/wp-content/uploads/2014/08/caicarada18.jpg
ORGANIZER;CN="FundArt":MAILTO:contato@fundart.com.br
END:VEVENT
END:VCALENDAR