BEGIN:VCALENDAR
VERSION:2.0
PRODID:-//FundArt - ECPv5.12.2//NONSGML v1.0//EN
CALSCALE:GREGORIAN
METHOD:PUBLISH
X-WR-CALNAME:FundArt
X-ORIGINAL-URL:https://fundart.com.br
X-WR-CALDESC:Eventos para FundArt
BEGIN:VTIMEZONE
TZID:America/Sao_Paulo
BEGIN:STANDARD
TZOFFSETFROM:-0300
TZOFFSETTO:-0300
TZNAME:-03
DTSTART:20210101T000000
END:STANDARD
END:VTIMEZONE
BEGIN:VEVENT
DTSTART;TZID=America/Sao_Paulo:20211218T180000
DTEND;TZID=America/Sao_Paulo:20211218T220000
DTSTAMP:20260422T070630
CREATED:20211206T180058Z
LAST-MODIFIED:20211206T180058Z
UID:34154-1639850400-1639864800@fundart.com.br
SUMMARY:Espetáculo Ballet 2021 "O Melhor Lugar Para Estar"
DESCRIPTION:
URL:https://fundart.com.br/evento/espetaculo-ballet-2021-o-melhor-lugar-para-estar-3/
LOCATION:Teatro Municipal Pedro Paulo Teixeira Pinto
CATEGORIES:Ballet
ATTACH;FMTTYPE=image/png:https://fundart.com.br/wp-content/uploads/2021/12/CARTAZ-BALLET-2021-FINAL-1-original-final-pdf-1-1.png
END:VEVENT
BEGIN:VEVENT
DTSTART;TZID=America/Sao_Paulo:20211218T190000
DTEND;TZID=America/Sao_Paulo:20211218T200000
DTSTAMP:20260422T070630
CREATED:20211215T195849Z
LAST-MODIFIED:20211215T195849Z
UID:34236-1639854000-1639857600@fundart.com.br
SUMMARY:Grupo Retreta Maestro Pedrinho - Música na praça
DESCRIPTION:
URL:https://fundart.com.br/evento/grupo-retreta-maestro-pedrinho-musica-na-praca-2/
LOCATION:Praça 13 de maio\, centro
ATTACH;FMTTYPE=image/png:https://fundart.com.br/wp-content/uploads/2021/12/agenda-lira.png
END:VEVENT
BEGIN:VEVENT
DTSTART;TZID=America/Sao_Paulo:20211218T190000
DTEND;TZID=America/Sao_Paulo:20211218T203000
DTSTAMP:20260422T070630
CREATED:20211215T200007Z
LAST-MODIFIED:20211215T200319Z
UID:34239-1639854000-1639859400@fundart.com.br
SUMMARY:Coro da Lira - Apresentação especial em agradecimento ao evento "Encontro de Corais"\, ocorrido em 2020
DESCRIPTION:
URL:https://fundart.com.br/evento/coro-da-lira-apresentacao-especial-em-agradecimento-ao-evento-encontro-de-corais-ocorrido-em-2020/
LOCATION:Supermercado Paulista e Pizzaria São Paulo
ATTACH;FMTTYPE=image/png:https://fundart.com.br/wp-content/uploads/2021/12/agenda-lira.png
END:VEVENT
END:VCALENDAR