BEGIN:VCALENDAR
VERSION:2.0
PRODID:-//FundArt - ECPv5.12.2//NONSGML v1.0//EN
CALSCALE:GREGORIAN
METHOD:PUBLISH
X-WR-CALNAME:FundArt
X-ORIGINAL-URL:https://fundart.com.br
X-WR-CALDESC:Eventos para FundArt
BEGIN:VTIMEZONE
TZID:America/Sao_Paulo
BEGIN:STANDARD
TZOFFSETFROM:-0300
TZOFFSETTO:-0300
TZNAME:-03
DTSTART:20210101T000000
END:STANDARD
END:VTIMEZONE
BEGIN:VEVENT
DTSTART;TZID=America/Sao_Paulo:20211217T190000
DTEND;TZID=America/Sao_Paulo:20211217T223000
DTSTAMP:20260420T051004
CREATED:20211206T175916Z
LAST-MODIFIED:20211206T175916Z
UID:34152-1639767600-1639780200@fundart.com.br
SUMMARY:Espetáculo Ballet 2021 "O Melhor Lugar Para Estar"
DESCRIPTION:
URL:https://fundart.com.br/evento/espetaculo-ballet-2021-o-melhor-lugar-para-estar-2/
LOCATION:Teatro Municipal Pedro Paulo Teixeira Pinto
CATEGORIES:Ballet
ATTACH;FMTTYPE=image/png:https://fundart.com.br/wp-content/uploads/2021/12/CARTAZ-BALLET-2021-FINAL-1-original-final-pdf-1-1.png
END:VEVENT
BEGIN:VEVENT
DTSTART;TZID=America/Sao_Paulo:20211217T190000
DTEND;TZID=America/Sao_Paulo:20211217T200000
DTSTAMP:20260420T051004
CREATED:20211215T195619Z
LAST-MODIFIED:20211215T195804Z
UID:34234-1639767600-1639771200@fundart.com.br
SUMMARY:Sons da Lira - Feira Literária: Abertura
DESCRIPTION:
URL:https://fundart.com.br/evento/sons-da-lira-feira-literaria-abertura/
LOCATION:Biblioteca Pública Municipal ” Ateneu Ubatubense”\, Praça 13 de Maio\, 52 - Centro\, Ubatuba
ATTACH;FMTTYPE=image/png:https://fundart.com.br/wp-content/uploads/2021/12/agenda-lira.png
END:VEVENT
END:VCALENDAR