BEGIN:VCALENDAR
VERSION:2.0
PRODID:-//FundArt - ECPv5.12.2//NONSGML v1.0//EN
CALSCALE:GREGORIAN
METHOD:PUBLISH
X-WR-CALNAME:FundArt
X-ORIGINAL-URL:https://fundart.com.br
X-WR-CALDESC:Eventos para FundArt
BEGIN:VTIMEZONE
TZID:America/Sao_Paulo
BEGIN:STANDARD
TZOFFSETFROM:-0300
TZOFFSETTO:-0300
TZNAME:-03
DTSTART:20210101T000000
END:STANDARD
END:VTIMEZONE
BEGIN:VEVENT
DTSTART;TZID=America/Sao_Paulo:20211125T150000
DTEND;TZID=America/Sao_Paulo:20211125T170000
DTSTAMP:20260423T123405
CREATED:20211108T194855Z
LAST-MODIFIED:20211108T194855Z
UID:33918-1637852400-1637859600@fundart.com.br
SUMMARY:Reunião Ordinária do Conselho Fiscal da Fundart
DESCRIPTION:
URL:https://fundart.com.br/evento/reuniao-ordinaria-do-conselho-fiscal-da-fundart-8/
LOCATION:Online
CATEGORIES:Conselho Fiscal
ATTACH;FMTTYPE=image/jpeg:https://fundart.com.br/wp-content/uploads/2017/03/fundart_placa.jpg
END:VEVENT
BEGIN:VEVENT
DTSTART;TZID=America/Sao_Paulo:20211125T180000
DTEND;TZID=America/Sao_Paulo:20211125T190000
DTSTAMP:20260423T123405
CREATED:20211108T195623Z
LAST-MODIFIED:20211125T183717Z
UID:33920-1637863200-1637866800@fundart.com.br
SUMMARY:Reunião Ordinária do Setorial de Literatura da Fundart
DESCRIPTION:
URL:https://fundart.com.br/evento/reuniao-ordinaria-do-setorial-de-literatura-da-fundart-4/
LOCATION:Online
CATEGORIES:Grupo Setorial de Literatura
ATTACH;FMTTYPE=image/jpeg:https://fundart.com.br/wp-content/uploads/2021/09/olia-gozha-J4kK8b9Fgj8-unsplash-scaled.jpg
END:VEVENT
BEGIN:VEVENT
DTSTART;TZID=America/Sao_Paulo:20211125T200000
DTEND;TZID=America/Sao_Paulo:20211125T220000
DTSTAMP:20260423T123405
CREATED:20211123T200032Z
LAST-MODIFIED:20211123T200032Z
UID:34064-1637870400-1637877600@fundart.com.br
SUMMARY:Quinta Sertaneja - Projeto Expresso: Avenida Musical
DESCRIPTION:Nos dias 23\, 24 e 25 de novembro\, a Prefeitura Municipal através da Fundação de Arte e Cultura de Ubatuba – FundArt\, realiza o “Projeto Expresso: Avenida Musical”. \nO evento aproveita a estrutura já instalada na Avenida Iperoig e as apresentações acontecerão na Praça de Eventos\, às 20h. \nConfira a programação dos shows: \nQuinta Sertaneja (25/11)\nAnderson Leon\nAdriano & Juliano\nLeandro Cesar & Juliano
URL:https://fundart.com.br/evento/quinta-sertaneja-projeto-expresso-avenida-musical/
LOCATION:Praça de Eventos\, Avenida Iperoig
ATTACH;FMTTYPE=image/jpeg:https://fundart.com.br/wp-content/uploads/2021/11/Avenida-Musical.jpeg
END:VEVENT
END:VCALENDAR