BEGIN:VCALENDAR
VERSION:2.0
PRODID:-//FundArt - ECPv5.12.2//NONSGML v1.0//EN
CALSCALE:GREGORIAN
METHOD:PUBLISH
X-WR-CALNAME:FundArt
X-ORIGINAL-URL:https://fundart.com.br
X-WR-CALDESC:Eventos para FundArt
BEGIN:VTIMEZONE
TZID:America/Sao_Paulo
BEGIN:STANDARD
TZOFFSETFROM:-0200
TZOFFSETTO:-0300
TZNAME:-03
DTSTART:20190217T020000
END:STANDARD
END:VTIMEZONE
BEGIN:VEVENT
DTSTART;TZID=America/Sao_Paulo:20191210T180000
DTEND;TZID=America/Sao_Paulo:20191210T180000
DTSTAMP:20260421T215651
CREATED:20190410T161529Z
LAST-MODIFIED:20190410T161529Z
UID:27665-1576000800-1576000800@fundart.com.br
SUMMARY:Reunião do Grupo Setorial de Artesanato
DESCRIPTION:
URL:https://fundart.com.br/evento/reuniao-do-grupo-setorial-de-artesanato-13/
LOCATION:Sede Administrativa da FundArt\, Praça Nóbrega\, 54 - Centro\, Ubatuba\, 11680-000
ATTACH;FMTTYPE=image/jpeg:https://fundart.com.br/wp-content/uploads/2017/12/artesanato1.jpg
END:VEVENT
BEGIN:VEVENT
DTSTART;TZID=America/Sao_Paulo:20191210T200000
DTEND;TZID=America/Sao_Paulo:20191210T200000
DTSTAMP:20260421T215651
CREATED:20191203T145157Z
LAST-MODIFIED:20191203T145157Z
UID:29673-1576008000-1576008000@fundart.com.br
SUMMARY:Chegada do Papai Noel em Ubatuba Espetáculo: Pinóquio e a Magia do Natal
DESCRIPTION:
URL:https://fundart.com.br/evento/chegada-do-papai-noel-em-ubatuba-espetaculo-pinoquio-e-a-magia-do-natal/
LOCATION:Praça 13 de maio\, centro
CATEGORIES:Chegada do Papai Noel
END:VEVENT
END:VCALENDAR